BEGIN:VCALENDAR
VERSION:2.0
PRODID:-//Ortaktekne - ECPv6.15.20//NONSGML v1.0//EN
CALSCALE:GREGORIAN
METHOD:PUBLISH
X-ORIGINAL-URL:https://ortaktekne.com
X-WR-CALDESC:Ortaktekne için etkinlikler
REFRESH-INTERVAL;VALUE=DURATION:PT1H
X-Robots-Tag:noindex
X-PUBLISHED-TTL:PT1H
BEGIN:VTIMEZONE
TZID:Europe/Istanbul
BEGIN:STANDARD
TZOFFSETFROM:+0300
TZOFFSETTO:+0300
TZNAME:+03
DTSTART:20250101T000000
END:STANDARD
END:VTIMEZONE
BEGIN:VTIMEZONE
TZID:UTC
BEGIN:STANDARD
TZOFFSETFROM:+0000
TZOFFSETTO:+0000
TZNAME:UTC
DTSTART:20250101T000000
END:STANDARD
END:VTIMEZONE
BEGIN:VEVENT
DTSTART;VALUE=DATE:20261012
DTEND;VALUE=DATE:20261019
DTSTAMP:20260420T090735
CREATED:20230304T070009Z
LAST-MODIFIED:20260306T090227Z
UID:46051-1791763200-1792367999@ortaktekne.com
SUMMARY:12–18 Ekim Simi – Tilos – Chalki – Rodos Flotillası
DESCRIPTION:12–18 Ekim Simi – Tilos – Chalki – Rodos Flotillası: Ege’nin en karakteristik adalarını kapsayan bu rota\, hem gözlere hem ruhunuza ziyafet. Renkli sokaklar\, sakin limanlar ve keşfedilmeyi bekleyen hikâyeler…
URL:https://ortaktekne.com/event/12-18-ekim-simi-tilos-chalki-rodos-flotillasi/
LOCATION:yunan adaları
ATTACH;FMTTYPE=image/jpeg:https://ortaktekne.com/wp-content/uploads/2025/03/route_04.jpg
END:VEVENT
BEGIN:VEVENT
DTSTART;VALUE=DATE:20261029
DTEND;VALUE=DATE:20261030
DTSTAMP:20260420T090735
CREATED:20240305T070031Z
LAST-MODIFIED:20260306T090218Z
UID:42503-1793232000-1793318399@ortaktekne.com
SUMMARY:29 Ekim Cumhuriyet Bayramı Korteji
DESCRIPTION:29 Ekim Cumhuriyet Bayramı: Her yıl yapılan Kaş’taki görkemli kortejde Ortak Tekne olarak yerimizi alıyoruz. Kırmızı-beyaz bir deniz şöleni!
URL:https://ortaktekne.com/event/29-ekim-cumhuriyet-bayrami-korteji/
LOCATION:göcek
ATTACH;FMTTYPE=image/jpeg:https://ortaktekne.com/wp-content/uploads/2024/09/29-ekim.jpg
END:VEVENT
BEGIN:VEVENT
DTSTART;VALUE=DATE:20260519
DTEND;VALUE=DATE:20260520
DTSTAMP:20260420T090735
CREATED:20220303T070021Z
LAST-MODIFIED:20260306T090006Z
UID:44870-1779148800-1779235199@ortaktekne.com
SUMMARY:19 Mayıs Gençlik ve Spor Bayramı Korteji
DESCRIPTION:19 Mayıs Gençlik ve Spor Bayramı: Bayram coşkusunu denizle birleştiren canlı ve enerjik bir kortej. Gençlik ruhu dalgalarla dans ediyor!
URL:https://ortaktekne.com/event/19-mayis-genclik-ve-spor-bayrami-korteji/
LOCATION:göcek
ATTACH;FMTTYPE=image/jpeg:https://ortaktekne.com/wp-content/uploads/2025/01/kortej.jpg
END:VEVENT
BEGIN:VEVENT
DTSTART;VALUE=DATE:20260423
DTEND;VALUE=DATE:20260424
DTSTAMP:20260420T090735
CREATED:20200101T070040Z
LAST-MODIFIED:20260306T083642Z
UID:42502-1776902400-1776988799@ortaktekne.com
SUMMARY:23 Nisan Ulusal Egemenlik ve Çocuk Bayramı Korteji
DESCRIPTION:23 Nisan Ulusal Egemenlik ve Çocuk Bayramı: Göcek Adası çevresinde rengârenk teknelerle coşkulu bir kortej. Çocukların kahkahası\, bayramın neşesi\, denizin özgürlüğü… Hepsi bir arada!
URL:https://ortaktekne.com/event/23-nisan-ulusal-egemenlik-ve-cocuk-bayrami-korteji/
LOCATION:göcek
ATTACH;FMTTYPE=image/jpeg:https://ortaktekne.com/wp-content/uploads/2025/12/1-12.jpg
END:VEVENT
END:VCALENDAR